BEGIN:VCALENDAR
VERSION:2.0
PRODID:-//New Haven RPG - ECPv6.13.0//NONSGML v1.0//EN
CALSCALE:GREGORIAN
METHOD:PUBLISH
X-WR-CALNAME:New Haven RPG
X-ORIGINAL-URL:https://havenrpg.net/newsite
X-WR-CALDESC:Events for New Haven RPG
REFRESH-INTERVAL;VALUE=DURATION:PT1H
X-Robots-Tag:noindex
X-PUBLISHED-TTL:PT1H
BEGIN:VTIMEZONE
TZID:America/New_York
BEGIN:DAYLIGHT
TZOFFSETFROM:-0500
TZOFFSETTO:-0400
TZNAME:EDT
DTSTART:20260308T070000
END:DAYLIGHT
BEGIN:STANDARD
TZOFFSETFROM:-0400
TZOFFSETTO:-0500
TZNAME:EST
DTSTART:20261101T060000
END:STANDARD
END:VTIMEZONE
BEGIN:VEVENT
DTSTART;TZID=America/New_York:20260425T010000
DTEND;TZID=America/New_York:20260425T040000
DTSTAMP:20260424T003224
CREATED:20260423T050045Z
LAST-MODIFIED:20260424T042526Z
UID:29690-1777078800-1777089600@havenrpg.net
SUMMARY:The 63rd Legion's Raid
DESCRIPTION:Faction: The 63rd Legion \nBorough: Northview Park \nTerrain: Park \nTask: Obtain Mycelial Resonance Drive and bring it back to the extraction point.
URL:https://havenrpg.net/newsite/event/mud-event-op-20-1-1/
END:VEVENT
BEGIN:VEVENT
DTSTART;TZID=America/New_York:20260425T060000
DTEND;TZID=America/New_York:20260425T090000
DTSTAMP:20260424T003224
CREATED:20260423T100204Z
LAST-MODIFIED:20260424T042526Z
UID:29691-1777096800-1777107600@havenrpg.net
SUMMARY:The 63rd Legion's Raid
DESCRIPTION:Faction: The 63rd Legion \nBorough: Redstone \nTerrain: City Streets \nTask: Obtain Heatseal Guild Medallion and bring it back to the extraction point.
URL:https://havenrpg.net/newsite/event/mud-event-op-20-1-6/
END:VEVENT
BEGIN:VEVENT
DTSTART;TZID=America/New_York:20260425T220000
DTEND;TZID=America/New_York:20260426T010000
DTSTAMP:20260424T003224
CREATED:20260424T020700Z
LAST-MODIFIED:20260424T042526Z
UID:29692-1777154400-1777165200@havenrpg.net
SUMMARY:The 63rd Legion's Raid
DESCRIPTION:Faction: The 63rd Legion \nBorough: Highgate \nTerrain: Shop \nTask: Obtain Godtouched Ambrosia Vials and bring it back to the extraction point.
URL:https://havenrpg.net/newsite/event/mud-event-op-20-1-22/
END:VEVENT
END:VCALENDAR